BEGIN:VCALENDAR
VERSION:2.0
PRODID:-//Club Broadbeach - ECPv6.15.20//NONSGML v1.0//EN
CALSCALE:GREGORIAN
METHOD:PUBLISH
X-ORIGINAL-URL:https://www.clubbroadbeach.com.au
X-WR-CALDESC:Events for Club Broadbeach
REFRESH-INTERVAL;VALUE=DURATION:PT1H
X-Robots-Tag:noindex
X-PUBLISHED-TTL:PT1H
BEGIN:VTIMEZONE
TZID:Australia/Brisbane
BEGIN:STANDARD
TZOFFSETFROM:+1000
TZOFFSETTO:+1000
TZNAME:AEST
DTSTART:20250101T000000
END:STANDARD
END:VTIMEZONE
BEGIN:VEVENT
DTSTART;TZID=Australia/Brisbane:20260427T080000
DTEND;TZID=Australia/Brisbane:20260427T170000
DTSTAMP:20260422T082410
CREATED:20241209T031102Z
LAST-MODIFIED:20260325T062855Z
UID:10014566-1777276800-1777309200@www.clubbroadbeach.com.au
SUMMARY:Parmi Monday
DESCRIPTION:
URL:https://www.clubbroadbeach.com.au/event/parmi-monday-2-2-2/2026-04-27/
CATEGORIES:Daily Activities,Daily Specials,Weekly
ATTACH;FMTTYPE=image/jpeg:https://www.clubbroadbeach.com.au/wp-content/uploads/2024/12/Parmi-Monday-1024x1024px.jpg
END:VEVENT
BEGIN:VEVENT
DTSTART;TZID=Australia/Brisbane:20260428T080000
DTEND;TZID=Australia/Brisbane:20260428T170000
DTSTAMP:20260422T082410
CREATED:20241120T013356Z
LAST-MODIFIED:20260325T063258Z
UID:10014828-1777363200-1777395600@www.clubbroadbeach.com.au
SUMMARY:T-Bone Tuesday
DESCRIPTION:
URL:https://www.clubbroadbeach.com.au/event/t-bone-tuesday-2/2026-04-28/
CATEGORIES:Daily Activities,Daily Specials,Weekly
ATTACH;FMTTYPE=image/avif:https://www.clubbroadbeach.com.au/wp-content/uploads/2024/11/t-bone-steak-served-wooden-board-with-slat-rosemary.avif
END:VEVENT
BEGIN:VEVENT
DTSTART;TZID=Australia/Brisbane:20260429T080000
DTEND;TZID=Australia/Brisbane:20260429T170000
DTSTAMP:20260422T082410
CREATED:20250918T043754Z
LAST-MODIFIED:20260325T062344Z
UID:10024219-1777449600-1777482000@www.clubbroadbeach.com.au
SUMMARY:Mid-Week Members Draw
DESCRIPTION:
URL:https://www.clubbroadbeach.com.au/event/mid-week-members-draw/2026-04-29/
CATEGORIES:Gaming,Weekly
ATTACH;FMTTYPE=image/jpeg:https://www.clubbroadbeach.com.au/wp-content/uploads/2025/09/BBC_09-SEP-SQ-Members-Draw.jpg
END:VEVENT
BEGIN:VEVENT
DTSTART;TZID=Australia/Brisbane:20260429T110000
DTEND;TZID=Australia/Brisbane:20260429T140000
DTSTAMP:20260422T082410
CREATED:20260108T033452Z
LAST-MODIFIED:20260325T060340Z
UID:10028826-1777460400-1777471200@www.clubbroadbeach.com.au
SUMMARY:APL Poker
DESCRIPTION:
URL:https://www.clubbroadbeach.com.au/event/apl-poker-2/2026-04-29/
CATEGORIES:APL,Gaming
ATTACH;FMTTYPE=image/webp:https://www.clubbroadbeach.com.au/wp-content/uploads/2024/09/APL-Poker-no-date01.webp
END:VEVENT
BEGIN:VEVENT
DTSTART;TZID=Australia/Brisbane:20260429T120000
DTEND;TZID=Australia/Brisbane:20260429T140000
DTSTAMP:20260422T082410
CREATED:20260118T224900Z
LAST-MODIFIED:20260312T025254Z
UID:10030248-1777464000-1777471200@www.clubbroadbeach.com.au
SUMMARY:Midweek Cash Splash
DESCRIPTION:
URL:https://www.clubbroadbeach.com.au/event/midweek-cash-splash/2026-04-29/
CATEGORIES:Gaming
ATTACH;FMTTYPE=image/jpeg:https://www.clubbroadbeach.com.au/wp-content/uploads/2026/01/v5-Preferred-14.jpg
END:VEVENT
BEGIN:VEVENT
DTSTART;TZID=Australia/Brisbane:20260430T170000
DTEND;TZID=Australia/Brisbane:20260430T203000
DTSTAMP:20260422T082410
CREATED:20260202T222845Z
LAST-MODIFIED:20260416T033846Z
UID:10031122-1777568400-1777581000@www.clubbroadbeach.com.au
SUMMARY:Kids Eat Free Thursdays
DESCRIPTION:
URL:https://www.clubbroadbeach.com.au/event/kids-eat-free-thursdays/2026-04-30/
CATEGORIES:Daily Activities,Daily Specials,Weekly
ATTACH;FMTTYPE=image/jpeg:https://www.clubbroadbeach.com.au/wp-content/uploads/2026/02/one-free-kids-meal-with-every-paying-main-meal.jpg
END:VEVENT
BEGIN:VEVENT
DTSTART;TZID=Australia/Brisbane:20260430T183000
DTEND;TZID=Australia/Brisbane:20260430T210000
DTSTAMP:20260422T082410
CREATED:20241119T232726Z
LAST-MODIFIED:20260325T062945Z
UID:10024403-1777573800-1777582800@www.clubbroadbeach.com.au
SUMMARY:Trivia Night
DESCRIPTION:
URL:https://www.clubbroadbeach.com.au/event/trivia-night/2026-04-30/
CATEGORIES:Trivia
ATTACH;FMTTYPE=image/jpeg:https://www.clubbroadbeach.com.au/wp-content/uploads/2026/01/Trivia-web-feature-image-Presentation.jpg
END:VEVENT
BEGIN:VEVENT
DTSTART;TZID=Australia/Brisbane:20260501T110000
DTEND;TZID=Australia/Brisbane:20260501T140000
DTSTAMP:20260422T082410
CREATED:20241220T055323Z
LAST-MODIFIED:20260304T222234Z
UID:10029459-1777633200-1777644000@www.clubbroadbeach.com.au
SUMMARY:APL Poker
DESCRIPTION:
URL:https://www.clubbroadbeach.com.au/event/apl-poker-3-2/2026-05-01/
CATEGORIES:APL,Gaming
ATTACH;FMTTYPE=image/webp:https://www.clubbroadbeach.com.au/wp-content/uploads/2024/09/APL-Poker-no-date01.webp
END:VEVENT
BEGIN:VEVENT
DTSTART;TZID=Australia/Brisbane:20260501T120000
DTEND;TZID=Australia/Brisbane:20260501T140000
DTSTAMP:20260422T082410
CREATED:20260118T233654Z
LAST-MODIFIED:20260325T060420Z
UID:10030562-1777636800-1777644000@www.clubbroadbeach.com.au
SUMMARY:Feel-Good Friday Cash Frenzy
DESCRIPTION:
URL:https://www.clubbroadbeach.com.au/event/feel-good-friday-cash-frenzy/2026-05-01/
CATEGORIES:Gaming
ATTACH;FMTTYPE=image/jpeg:https://www.clubbroadbeach.com.au/wp-content/uploads/2026/01/v1-5.jpg
END:VEVENT
BEGIN:VEVENT
DTSTART;TZID=Australia/Brisbane:20260501T193000
DTEND;TZID=Australia/Brisbane:20260501T235900
DTSTAMP:20260422T082410
CREATED:20230224T000628Z
LAST-MODIFIED:20260330T234417Z
UID:10000091-1777663800-1777679940@www.clubbroadbeach.com.au
SUMMARY:Friday Nights
DESCRIPTION:
URL:https://www.clubbroadbeach.com.au/event/friday-nights/2026-05-01/
CATEGORIES:Live Entertainment
ATTACH;FMTTYPE=image/png:https://www.clubbroadbeach.com.au/wp-content/uploads/2023/02/broadbeach-1.png
END:VEVENT
BEGIN:VEVENT
DTSTART;TZID=Australia/Brisbane:20260502T180000
DTEND;TZID=Australia/Brisbane:20260502T235900
DTSTAMP:20260422T082410
CREATED:20230224T001732Z
LAST-MODIFIED:20260329T230043Z
UID:10018813-1777744800-1777766340@www.clubbroadbeach.com.au
SUMMARY:Saturday Nights
DESCRIPTION:
URL:https://www.clubbroadbeach.com.au/event/saturday-nights/2026-05-02/
CATEGORIES:Live Entertainment
ATTACH;FMTTYPE=image/png:https://www.clubbroadbeach.com.au/wp-content/uploads/2022/10/blurb-image3.png
END:VEVENT
BEGIN:VEVENT
DTSTART;TZID=Australia/Brisbane:20260503T150000
DTEND;TZID=Australia/Brisbane:20260503T235900
DTSTAMP:20260422T082410
CREATED:20230224T001413Z
LAST-MODIFIED:20260329T230419Z
UID:10000720-1777820400-1777852740@www.clubbroadbeach.com.au
SUMMARY:Sunday Sessions
DESCRIPTION:
URL:https://www.clubbroadbeach.com.au/event/sunday-sessions/2026-05-03/
CATEGORIES:Live Entertainment
ATTACH;FMTTYPE=image/png:https://www.clubbroadbeach.com.au/wp-content/uploads/2022/10/room3-image.png
END:VEVENT
END:VCALENDAR