BEGIN:VCALENDAR
VERSION:2.0
PRODID:-//Club Broadbeach - ECPv6.15.20//NONSGML v1.0//EN
CALSCALE:GREGORIAN
METHOD:PUBLISH
X-WR-CALNAME:Club Broadbeach
X-ORIGINAL-URL:https://www.clubbroadbeach.com.au
X-WR-CALDESC:Events for Club Broadbeach
REFRESH-INTERVAL;VALUE=DURATION:PT1H
X-Robots-Tag:noindex
X-PUBLISHED-TTL:PT1H
BEGIN:VTIMEZONE
TZID:Australia/Brisbane
BEGIN:STANDARD
TZOFFSETFROM:+1000
TZOFFSETTO:+1000
TZNAME:AEST
DTSTART:20240101T000000
END:STANDARD
END:VTIMEZONE
BEGIN:VEVENT
DTSTART;TZID=Australia/Brisbane:20251208T070000
DTEND;TZID=Australia/Brisbane:20251208T160000
DTSTAMP:20260422T110638
CREATED:20241209T031102Z
LAST-MODIFIED:20260325T062855Z
UID:10014546-1765177200-1765209600@www.clubbroadbeach.com.au
SUMMARY:Parmi Monday
DESCRIPTION:
URL:https://www.clubbroadbeach.com.au/event/parmi-monday-2-2-2/2025-12-08/
CATEGORIES:Daily Activities,Daily Specials,Weekly
ATTACH;FMTTYPE=image/jpeg:https://www.clubbroadbeach.com.au/wp-content/uploads/2024/12/Parmi-Monday-1024x1024px.jpg
END:VEVENT
BEGIN:VEVENT
DTSTART;TZID=Australia/Brisbane:20251209T070000
DTEND;TZID=Australia/Brisbane:20251209T160000
DTSTAMP:20260422T110638
CREATED:20241120T013356Z
LAST-MODIFIED:20260325T063258Z
UID:10014808-1765263600-1765296000@www.clubbroadbeach.com.au
SUMMARY:T-Bone Tuesday
DESCRIPTION:
URL:https://www.clubbroadbeach.com.au/event/t-bone-tuesday-2/2025-12-09/
CATEGORIES:Daily Activities,Daily Specials,Weekly
ATTACH;FMTTYPE=image/avif:https://www.clubbroadbeach.com.au/wp-content/uploads/2024/11/t-bone-steak-served-wooden-board-with-slat-rosemary.avif
END:VEVENT
BEGIN:VEVENT
DTSTART;TZID=Australia/Brisbane:20251210T080000
DTEND;TZID=Australia/Brisbane:20251210T170000
DTSTAMP:20260422T110638
CREATED:20250918T043754Z
LAST-MODIFIED:20260325T062344Z
UID:10024199-1765353600-1765386000@www.clubbroadbeach.com.au
SUMMARY:Mid-Week Members Draw
DESCRIPTION:
URL:https://www.clubbroadbeach.com.au/event/mid-week-members-draw/2025-12-10/
CATEGORIES:Gaming,Weekly
ATTACH;FMTTYPE=image/jpeg:https://www.clubbroadbeach.com.au/wp-content/uploads/2025/09/BBC_09-SEP-SQ-Members-Draw.jpg
END:VEVENT
BEGIN:VEVENT
DTSTART;TZID=Australia/Brisbane:20251211T170000
DTEND;TZID=Australia/Brisbane:20251211T203000
DTSTAMP:20260422T110638
CREATED:20260202T222845Z
LAST-MODIFIED:20260416T033846Z
UID:10031102-1765472400-1765485000@www.clubbroadbeach.com.au
SUMMARY:Kids Eat Free Thursdays
DESCRIPTION:
URL:https://www.clubbroadbeach.com.au/event/kids-eat-free-thursdays/2025-12-11/
CATEGORIES:Daily Activities,Daily Specials,Weekly
ATTACH;FMTTYPE=image/jpeg:https://www.clubbroadbeach.com.au/wp-content/uploads/2026/02/one-free-kids-meal-with-every-paying-main-meal.jpg
END:VEVENT
BEGIN:VEVENT
DTSTART;TZID=Australia/Brisbane:20251211T173000
DTEND;TZID=Australia/Brisbane:20251211T200000
DTSTAMP:20260422T110638
CREATED:20241119T232726Z
LAST-MODIFIED:20260325T062945Z
UID:10024383-1765474200-1765483200@www.clubbroadbeach.com.au
SUMMARY:Trivia Night
DESCRIPTION:
URL:https://www.clubbroadbeach.com.au/event/trivia-night/2025-12-11/
CATEGORIES:Trivia
ATTACH;FMTTYPE=image/jpeg:https://www.clubbroadbeach.com.au/wp-content/uploads/2026/01/Trivia-web-feature-image-Presentation.jpg
END:VEVENT
BEGIN:VEVENT
DTSTART;TZID=Australia/Brisbane:20251212T110000
DTEND;TZID=Australia/Brisbane:20251212T140000
DTSTAMP:20260422T110638
CREATED:20241220T055323Z
LAST-MODIFIED:20260304T222234Z
UID:10029439-1765537200-1765548000@www.clubbroadbeach.com.au
SUMMARY:APL Poker
DESCRIPTION:
URL:https://www.clubbroadbeach.com.au/event/apl-poker-3-2/2025-12-12/
CATEGORIES:APL,Gaming
ATTACH;FMTTYPE=image/webp:https://www.clubbroadbeach.com.au/wp-content/uploads/2024/09/APL-Poker-no-date01.webp
END:VEVENT
BEGIN:VEVENT
DTSTART;TZID=Australia/Brisbane:20251212T183000
DTEND;TZID=Australia/Brisbane:20251212T225900
DTSTAMP:20260422T110638
CREATED:20230224T000628Z
LAST-MODIFIED:20260330T234417Z
UID:10000071-1765564200-1765580340@www.clubbroadbeach.com.au
SUMMARY:Friday Nights
DESCRIPTION:
URL:https://www.clubbroadbeach.com.au/event/friday-nights/2025-12-12/
CATEGORIES:Live Entertainment
ATTACH;FMTTYPE=image/png:https://www.clubbroadbeach.com.au/wp-content/uploads/2023/02/broadbeach-1.png
END:VEVENT
BEGIN:VEVENT
DTSTART;TZID=Australia/Brisbane:20251213T170000
DTEND;TZID=Australia/Brisbane:20251213T225900
DTSTAMP:20260422T110638
CREATED:20230224T001732Z
LAST-MODIFIED:20260329T230043Z
UID:10018793-1765645200-1765666740@www.clubbroadbeach.com.au
SUMMARY:Saturday Nights
DESCRIPTION:
URL:https://www.clubbroadbeach.com.au/event/saturday-nights/2025-12-13/
CATEGORIES:Live Entertainment
ATTACH;FMTTYPE=image/png:https://www.clubbroadbeach.com.au/wp-content/uploads/2022/10/blurb-image3.png
END:VEVENT
BEGIN:VEVENT
DTSTART;TZID=Australia/Brisbane:20251214T140000
DTEND;TZID=Australia/Brisbane:20251214T225900
DTSTAMP:20260422T110638
CREATED:20230224T001413Z
LAST-MODIFIED:20260329T230419Z
UID:10000700-1765720800-1765753140@www.clubbroadbeach.com.au
SUMMARY:Sunday Sessions
DESCRIPTION:
URL:https://www.clubbroadbeach.com.au/event/sunday-sessions/2025-12-14/
CATEGORIES:Live Entertainment
ATTACH;FMTTYPE=image/png:https://www.clubbroadbeach.com.au/wp-content/uploads/2022/10/room3-image.png
END:VEVENT
END:VCALENDAR