BEGIN:VCALENDAR
VERSION:2.0
PRODID:-//Club Broadbeach - ECPv6.15.20//NONSGML v1.0//EN
CALSCALE:GREGORIAN
METHOD:PUBLISH
X-WR-CALNAME:Club Broadbeach
X-ORIGINAL-URL:https://www.clubbroadbeach.com.au
X-WR-CALDESC:Events for Club Broadbeach
REFRESH-INTERVAL;VALUE=DURATION:PT1H
X-Robots-Tag:noindex
X-PUBLISHED-TTL:PT1H
BEGIN:VTIMEZONE
TZID:Australia/Brisbane
BEGIN:STANDARD
TZOFFSETFROM:+1000
TZOFFSETTO:+1000
TZNAME:AEST
DTSTART:20240101T000000
END:STANDARD
END:VTIMEZONE
BEGIN:VEVENT
DTSTART;TZID=Australia/Brisbane:20251201T070000
DTEND;TZID=Australia/Brisbane:20251201T160000
DTSTAMP:20260422T060125
CREATED:20241209T031102Z
LAST-MODIFIED:20260325T062855Z
UID:10014545-1764572400-1764604800@www.clubbroadbeach.com.au
SUMMARY:Parmi Monday
DESCRIPTION:
URL:https://www.clubbroadbeach.com.au/event/parmi-monday-2-2-2/2025-12-01/
CATEGORIES:Daily Activities,Daily Specials,Weekly
ATTACH;FMTTYPE=image/jpeg:https://www.clubbroadbeach.com.au/wp-content/uploads/2024/12/Parmi-Monday-1024x1024px.jpg
END:VEVENT
BEGIN:VEVENT
DTSTART;TZID=Australia/Brisbane:20251202T070000
DTEND;TZID=Australia/Brisbane:20251202T160000
DTSTAMP:20260422T060125
CREATED:20241120T013356Z
LAST-MODIFIED:20260325T063258Z
UID:10014807-1764658800-1764691200@www.clubbroadbeach.com.au
SUMMARY:T-Bone Tuesday
DESCRIPTION:
URL:https://www.clubbroadbeach.com.au/event/t-bone-tuesday-2/2025-12-02/
CATEGORIES:Daily Activities,Daily Specials,Weekly
ATTACH;FMTTYPE=image/avif:https://www.clubbroadbeach.com.au/wp-content/uploads/2024/11/t-bone-steak-served-wooden-board-with-slat-rosemary.avif
END:VEVENT
BEGIN:VEVENT
DTSTART;TZID=Australia/Brisbane:20251203T080000
DTEND;TZID=Australia/Brisbane:20251203T170000
DTSTAMP:20260422T060125
CREATED:20250918T043754Z
LAST-MODIFIED:20260325T062344Z
UID:10024198-1764748800-1764781200@www.clubbroadbeach.com.au
SUMMARY:Mid-Week Members Draw
DESCRIPTION:
URL:https://www.clubbroadbeach.com.au/event/mid-week-members-draw/2025-12-03/
CATEGORIES:Gaming,Weekly
ATTACH;FMTTYPE=image/jpeg:https://www.clubbroadbeach.com.au/wp-content/uploads/2025/09/BBC_09-SEP-SQ-Members-Draw.jpg
END:VEVENT
BEGIN:VEVENT
DTSTART;TZID=Australia/Brisbane:20251204T170000
DTEND;TZID=Australia/Brisbane:20251204T203000
DTSTAMP:20260422T060125
CREATED:20260202T222845Z
LAST-MODIFIED:20260416T033846Z
UID:10031101-1764867600-1764880200@www.clubbroadbeach.com.au
SUMMARY:Kids Eat Free Thursdays
DESCRIPTION:
URL:https://www.clubbroadbeach.com.au/event/kids-eat-free-thursdays/2025-12-04/
CATEGORIES:Daily Activities,Daily Specials,Weekly
ATTACH;FMTTYPE=image/jpeg:https://www.clubbroadbeach.com.au/wp-content/uploads/2026/02/one-free-kids-meal-with-every-paying-main-meal.jpg
END:VEVENT
BEGIN:VEVENT
DTSTART;TZID=Australia/Brisbane:20251204T173000
DTEND;TZID=Australia/Brisbane:20251204T200000
DTSTAMP:20260422T060125
CREATED:20241119T232726Z
LAST-MODIFIED:20260325T062945Z
UID:10024382-1764869400-1764878400@www.clubbroadbeach.com.au
SUMMARY:Trivia Night
DESCRIPTION:
URL:https://www.clubbroadbeach.com.au/event/trivia-night/2025-12-04/
CATEGORIES:Trivia
ATTACH;FMTTYPE=image/jpeg:https://www.clubbroadbeach.com.au/wp-content/uploads/2026/01/Trivia-web-feature-image-Presentation.jpg
END:VEVENT
BEGIN:VEVENT
DTSTART;TZID=Australia/Brisbane:20251205T110000
DTEND;TZID=Australia/Brisbane:20251205T140000
DTSTAMP:20260422T060125
CREATED:20241220T055323Z
LAST-MODIFIED:20260304T222234Z
UID:10029438-1764932400-1764943200@www.clubbroadbeach.com.au
SUMMARY:APL Poker
DESCRIPTION:
URL:https://www.clubbroadbeach.com.au/event/apl-poker-3-2/2025-12-05/
CATEGORIES:APL,Gaming
ATTACH;FMTTYPE=image/webp:https://www.clubbroadbeach.com.au/wp-content/uploads/2024/09/APL-Poker-no-date01.webp
END:VEVENT
BEGIN:VEVENT
DTSTART;TZID=Australia/Brisbane:20251205T183000
DTEND;TZID=Australia/Brisbane:20251205T225900
DTSTAMP:20260422T060125
CREATED:20230224T000628Z
LAST-MODIFIED:20260330T234417Z
UID:10000070-1764959400-1764975540@www.clubbroadbeach.com.au
SUMMARY:Friday Nights
DESCRIPTION:
URL:https://www.clubbroadbeach.com.au/event/friday-nights/2025-12-05/
CATEGORIES:Live Entertainment
ATTACH;FMTTYPE=image/png:https://www.clubbroadbeach.com.au/wp-content/uploads/2023/02/broadbeach-1.png
END:VEVENT
BEGIN:VEVENT
DTSTART;TZID=Australia/Brisbane:20251206T170000
DTEND;TZID=Australia/Brisbane:20251206T225900
DTSTAMP:20260422T060125
CREATED:20230224T001732Z
LAST-MODIFIED:20260329T230043Z
UID:10018792-1765040400-1765061940@www.clubbroadbeach.com.au
SUMMARY:Saturday Nights
DESCRIPTION:
URL:https://www.clubbroadbeach.com.au/event/saturday-nights/2025-12-06/
CATEGORIES:Live Entertainment
ATTACH;FMTTYPE=image/png:https://www.clubbroadbeach.com.au/wp-content/uploads/2022/10/blurb-image3.png
END:VEVENT
BEGIN:VEVENT
DTSTART;TZID=Australia/Brisbane:20251207T140000
DTEND;TZID=Australia/Brisbane:20251207T225900
DTSTAMP:20260422T060125
CREATED:20230224T001413Z
LAST-MODIFIED:20260329T230419Z
UID:10000699-1765116000-1765148340@www.clubbroadbeach.com.au
SUMMARY:Sunday Sessions
DESCRIPTION:
URL:https://www.clubbroadbeach.com.au/event/sunday-sessions/2025-12-07/
CATEGORIES:Live Entertainment
ATTACH;FMTTYPE=image/png:https://www.clubbroadbeach.com.au/wp-content/uploads/2022/10/room3-image.png
END:VEVENT
END:VCALENDAR