BEGIN:VCALENDAR
VERSION:2.0
PRODID:-//Club Broadbeach - ECPv6.15.20//NONSGML v1.0//EN
CALSCALE:GREGORIAN
METHOD:PUBLISH
X-ORIGINAL-URL:https://www.clubbroadbeach.com.au
X-WR-CALDESC:Events for Club Broadbeach
REFRESH-INTERVAL;VALUE=DURATION:PT1H
X-Robots-Tag:noindex
X-PUBLISHED-TTL:PT1H
BEGIN:VTIMEZONE
TZID:Australia/Brisbane
BEGIN:STANDARD
TZOFFSETFROM:+1000
TZOFFSETTO:+1000
TZNAME:AEST
DTSTART:20240101T000000
END:STANDARD
END:VTIMEZONE
BEGIN:VEVENT
DTSTART;TZID=Australia/Brisbane:20251124T070000
DTEND;TZID=Australia/Brisbane:20251124T160000
DTSTAMP:20260422T042840
CREATED:20241209T031102Z
LAST-MODIFIED:20260325T062855Z
UID:10014544-1763967600-1764000000@www.clubbroadbeach.com.au
SUMMARY:Parmi Monday
DESCRIPTION:
URL:https://www.clubbroadbeach.com.au/event/parmi-monday-2-2-2/2025-11-24/
CATEGORIES:Daily Activities,Daily Specials,Weekly
ATTACH;FMTTYPE=image/jpeg:https://www.clubbroadbeach.com.au/wp-content/uploads/2024/12/Parmi-Monday-1024x1024px.jpg
END:VEVENT
BEGIN:VEVENT
DTSTART;TZID=Australia/Brisbane:20251125T070000
DTEND;TZID=Australia/Brisbane:20251125T160000
DTSTAMP:20260422T042840
CREATED:20241120T013356Z
LAST-MODIFIED:20260325T063258Z
UID:10014806-1764054000-1764086400@www.clubbroadbeach.com.au
SUMMARY:T-Bone Tuesday
DESCRIPTION:
URL:https://www.clubbroadbeach.com.au/event/t-bone-tuesday-2/2025-11-25/
CATEGORIES:Daily Activities,Daily Specials,Weekly
ATTACH;FMTTYPE=image/avif:https://www.clubbroadbeach.com.au/wp-content/uploads/2024/11/t-bone-steak-served-wooden-board-with-slat-rosemary.avif
END:VEVENT
BEGIN:VEVENT
DTSTART;TZID=Australia/Brisbane:20251126T080000
DTEND;TZID=Australia/Brisbane:20251126T170000
DTSTAMP:20260422T042840
CREATED:20250918T043754Z
LAST-MODIFIED:20260325T062344Z
UID:10024197-1764144000-1764176400@www.clubbroadbeach.com.au
SUMMARY:Mid-Week Members Draw
DESCRIPTION:
URL:https://www.clubbroadbeach.com.au/event/mid-week-members-draw/2025-11-26/
CATEGORIES:Gaming,Weekly
ATTACH;FMTTYPE=image/jpeg:https://www.clubbroadbeach.com.au/wp-content/uploads/2025/09/BBC_09-SEP-SQ-Members-Draw.jpg
END:VEVENT
BEGIN:VEVENT
DTSTART;TZID=Australia/Brisbane:20251127T170000
DTEND;TZID=Australia/Brisbane:20251127T203000
DTSTAMP:20260422T042840
CREATED:20260202T222845Z
LAST-MODIFIED:20260416T033846Z
UID:10031100-1764262800-1764275400@www.clubbroadbeach.com.au
SUMMARY:Kids Eat Free Thursdays
DESCRIPTION:
URL:https://www.clubbroadbeach.com.au/event/kids-eat-free-thursdays/2025-11-27/
CATEGORIES:Daily Activities,Daily Specials,Weekly
ATTACH;FMTTYPE=image/jpeg:https://www.clubbroadbeach.com.au/wp-content/uploads/2026/02/one-free-kids-meal-with-every-paying-main-meal.jpg
END:VEVENT
BEGIN:VEVENT
DTSTART;TZID=Australia/Brisbane:20251127T173000
DTEND;TZID=Australia/Brisbane:20251127T200000
DTSTAMP:20260422T042840
CREATED:20241119T232726Z
LAST-MODIFIED:20260325T062945Z
UID:10024381-1764264600-1764273600@www.clubbroadbeach.com.au
SUMMARY:Trivia Night
DESCRIPTION:
URL:https://www.clubbroadbeach.com.au/event/trivia-night/2025-11-27/
CATEGORIES:Trivia
ATTACH;FMTTYPE=image/jpeg:https://www.clubbroadbeach.com.au/wp-content/uploads/2026/01/Trivia-web-feature-image-Presentation.jpg
END:VEVENT
BEGIN:VEVENT
DTSTART;TZID=Australia/Brisbane:20251128T110000
DTEND;TZID=Australia/Brisbane:20251128T140000
DTSTAMP:20260422T042840
CREATED:20241220T055323Z
LAST-MODIFIED:20260304T222234Z
UID:10029437-1764327600-1764338400@www.clubbroadbeach.com.au
SUMMARY:APL Poker
DESCRIPTION:
URL:https://www.clubbroadbeach.com.au/event/apl-poker-3-2/2025-11-28/
CATEGORIES:APL,Gaming
ATTACH;FMTTYPE=image/webp:https://www.clubbroadbeach.com.au/wp-content/uploads/2024/09/APL-Poker-no-date01.webp
END:VEVENT
BEGIN:VEVENT
DTSTART;TZID=Australia/Brisbane:20251128T183000
DTEND;TZID=Australia/Brisbane:20251128T225900
DTSTAMP:20260422T042840
CREATED:20230224T000628Z
LAST-MODIFIED:20260330T234417Z
UID:10000069-1764354600-1764370740@www.clubbroadbeach.com.au
SUMMARY:Friday Nights
DESCRIPTION:
URL:https://www.clubbroadbeach.com.au/event/friday-nights/2025-11-28/
CATEGORIES:Live Entertainment
ATTACH;FMTTYPE=image/png:https://www.clubbroadbeach.com.au/wp-content/uploads/2023/02/broadbeach-1.png
END:VEVENT
BEGIN:VEVENT
DTSTART;TZID=Australia/Brisbane:20251129T170000
DTEND;TZID=Australia/Brisbane:20251129T225900
DTSTAMP:20260422T042840
CREATED:20230224T001732Z
LAST-MODIFIED:20260329T230043Z
UID:10018791-1764435600-1764457140@www.clubbroadbeach.com.au
SUMMARY:Saturday Nights
DESCRIPTION:
URL:https://www.clubbroadbeach.com.au/event/saturday-nights/2025-11-29/
CATEGORIES:Live Entertainment
ATTACH;FMTTYPE=image/png:https://www.clubbroadbeach.com.au/wp-content/uploads/2022/10/blurb-image3.png
END:VEVENT
BEGIN:VEVENT
DTSTART;TZID=Australia/Brisbane:20251130T140000
DTEND;TZID=Australia/Brisbane:20251130T225900
DTSTAMP:20260422T042840
CREATED:20230224T001413Z
LAST-MODIFIED:20260329T230419Z
UID:10000698-1764511200-1764543540@www.clubbroadbeach.com.au
SUMMARY:Sunday Sessions
DESCRIPTION:
URL:https://www.clubbroadbeach.com.au/event/sunday-sessions/2025-11-30/
CATEGORIES:Live Entertainment
ATTACH;FMTTYPE=image/png:https://www.clubbroadbeach.com.au/wp-content/uploads/2022/10/room3-image.png
END:VEVENT
END:VCALENDAR