BEGIN:VCALENDAR
VERSION:2.0
PRODID:-//Club Broadbeach - ECPv6.15.20//NONSGML v1.0//EN
CALSCALE:GREGORIAN
METHOD:PUBLISH
X-ORIGINAL-URL:https://www.clubbroadbeach.com.au
X-WR-CALDESC:Events for Club Broadbeach
REFRESH-INTERVAL;VALUE=DURATION:PT1H
X-Robots-Tag:noindex
X-PUBLISHED-TTL:PT1H
BEGIN:VTIMEZONE
TZID:Australia/Brisbane
BEGIN:STANDARD
TZOFFSETFROM:+1000
TZOFFSETTO:+1000
TZNAME:AEST
DTSTART:20250101T000000
END:STANDARD
END:VTIMEZONE
BEGIN:VEVENT
DTSTART;TZID=Australia/Brisbane:20260414T080000
DTEND;TZID=Australia/Brisbane:20260414T170000
DTSTAMP:20260421T232826
CREATED:20241120T013356Z
LAST-MODIFIED:20260325T063258Z
UID:10014826-1776153600-1776186000@www.clubbroadbeach.com.au
SUMMARY:T-Bone Tuesday
DESCRIPTION:
URL:https://www.clubbroadbeach.com.au/event/t-bone-tuesday-2/2026-04-14/
CATEGORIES:Daily Activities,Daily Specials,Weekly
ATTACH;FMTTYPE=image/avif:https://www.clubbroadbeach.com.au/wp-content/uploads/2024/11/t-bone-steak-served-wooden-board-with-slat-rosemary.avif
END:VEVENT
BEGIN:VEVENT
DTSTART;TZID=Australia/Brisbane:20260415T080000
DTEND;TZID=Australia/Brisbane:20260415T170000
DTSTAMP:20260421T232826
CREATED:20250918T043754Z
LAST-MODIFIED:20260325T062344Z
UID:10024217-1776240000-1776272400@www.clubbroadbeach.com.au
SUMMARY:Mid-Week Members Draw
DESCRIPTION:
URL:https://www.clubbroadbeach.com.au/event/mid-week-members-draw/2026-04-15/
CATEGORIES:Gaming,Weekly
ATTACH;FMTTYPE=image/jpeg:https://www.clubbroadbeach.com.au/wp-content/uploads/2025/09/BBC_09-SEP-SQ-Members-Draw.jpg
END:VEVENT
BEGIN:VEVENT
DTSTART;TZID=Australia/Brisbane:20260415T110000
DTEND;TZID=Australia/Brisbane:20260415T140000
DTSTAMP:20260421T232826
CREATED:20260108T033452Z
LAST-MODIFIED:20260325T060340Z
UID:10028824-1776250800-1776261600@www.clubbroadbeach.com.au
SUMMARY:APL Poker
DESCRIPTION:
URL:https://www.clubbroadbeach.com.au/event/apl-poker-2/2026-04-15/
CATEGORIES:APL,Gaming
ATTACH;FMTTYPE=image/webp:https://www.clubbroadbeach.com.au/wp-content/uploads/2024/09/APL-Poker-no-date01.webp
END:VEVENT
BEGIN:VEVENT
DTSTART;TZID=Australia/Brisbane:20260415T120000
DTEND;TZID=Australia/Brisbane:20260415T140000
DTSTAMP:20260421T232826
CREATED:20260118T224900Z
LAST-MODIFIED:20260312T025254Z
UID:10030246-1776254400-1776261600@www.clubbroadbeach.com.au
SUMMARY:Midweek Cash Splash
DESCRIPTION:
URL:https://www.clubbroadbeach.com.au/event/midweek-cash-splash/2026-04-15/
CATEGORIES:Gaming
ATTACH;FMTTYPE=image/jpeg:https://www.clubbroadbeach.com.au/wp-content/uploads/2026/01/v5-Preferred-14.jpg
END:VEVENT
BEGIN:VEVENT
DTSTART;TZID=Australia/Brisbane:20260416T183000
DTEND;TZID=Australia/Brisbane:20260416T210000
DTSTAMP:20260421T232826
CREATED:20241119T232726Z
LAST-MODIFIED:20260325T062945Z
UID:10024401-1776364200-1776373200@www.clubbroadbeach.com.au
SUMMARY:Trivia Night
DESCRIPTION:
URL:https://www.clubbroadbeach.com.au/event/trivia-night/2026-04-16/
CATEGORIES:Trivia
ATTACH;FMTTYPE=image/jpeg:https://www.clubbroadbeach.com.au/wp-content/uploads/2026/01/Trivia-web-feature-image-Presentation.jpg
END:VEVENT
BEGIN:VEVENT
DTSTART;TZID=Australia/Brisbane:20260417T110000
DTEND;TZID=Australia/Brisbane:20260417T140000
DTSTAMP:20260421T232826
CREATED:20241220T055323Z
LAST-MODIFIED:20260304T222234Z
UID:10029457-1776423600-1776434400@www.clubbroadbeach.com.au
SUMMARY:APL Poker
DESCRIPTION:
URL:https://www.clubbroadbeach.com.au/event/apl-poker-3-2/2026-04-17/
CATEGORIES:APL,Gaming
ATTACH;FMTTYPE=image/webp:https://www.clubbroadbeach.com.au/wp-content/uploads/2024/09/APL-Poker-no-date01.webp
END:VEVENT
BEGIN:VEVENT
DTSTART;TZID=Australia/Brisbane:20260417T120000
DTEND;TZID=Australia/Brisbane:20260417T140000
DTSTAMP:20260421T232826
CREATED:20260118T233654Z
LAST-MODIFIED:20260325T060420Z
UID:10030560-1776427200-1776434400@www.clubbroadbeach.com.au
SUMMARY:Feel-Good Friday Cash Frenzy
DESCRIPTION:
URL:https://www.clubbroadbeach.com.au/event/feel-good-friday-cash-frenzy/2026-04-17/
CATEGORIES:Gaming
ATTACH;FMTTYPE=image/jpeg:https://www.clubbroadbeach.com.au/wp-content/uploads/2026/01/v1-5.jpg
END:VEVENT
BEGIN:VEVENT
DTSTART;TZID=Australia/Brisbane:20260417T180000
DTEND;TZID=Australia/Brisbane:20260417T200000
DTSTAMP:20260421T232826
CREATED:20260127T000546Z
LAST-MODIFIED:20260325T060447Z
UID:10031084-1776448800-1776456000@www.clubbroadbeach.com.au
SUMMARY:The Broadbeach Bounty
DESCRIPTION:
URL:https://www.clubbroadbeach.com.au/event/the-broadbeach-bounty/2026-04-17/
CATEGORIES:Gaming
ATTACH;FMTTYPE=image/jpeg:https://www.clubbroadbeach.com.au/wp-content/uploads/2026/01/v2.jpg
END:VEVENT
BEGIN:VEVENT
DTSTART;TZID=Australia/Brisbane:20260417T193000
DTEND;TZID=Australia/Brisbane:20260417T235900
DTSTAMP:20260421T232826
CREATED:20230224T000628Z
LAST-MODIFIED:20260330T234417Z
UID:10000089-1776454200-1776470340@www.clubbroadbeach.com.au
SUMMARY:Friday Nights
DESCRIPTION:
URL:https://www.clubbroadbeach.com.au/event/friday-nights/2026-04-17/
CATEGORIES:Live Entertainment
ATTACH;FMTTYPE=image/png:https://www.clubbroadbeach.com.au/wp-content/uploads/2023/02/broadbeach-1.png
END:VEVENT
BEGIN:VEVENT
DTSTART;TZID=Australia/Brisbane:20260418T180000
DTEND;TZID=Australia/Brisbane:20260418T235900
DTSTAMP:20260421T232826
CREATED:20230224T001732Z
LAST-MODIFIED:20260329T230043Z
UID:10018811-1776535200-1776556740@www.clubbroadbeach.com.au
SUMMARY:Saturday Nights
DESCRIPTION:
URL:https://www.clubbroadbeach.com.au/event/saturday-nights/2026-04-18/
CATEGORIES:Live Entertainment
ATTACH;FMTTYPE=image/png:https://www.clubbroadbeach.com.au/wp-content/uploads/2022/10/blurb-image3.png
END:VEVENT
BEGIN:VEVENT
DTSTART;TZID=Australia/Brisbane:20260419T150000
DTEND;TZID=Australia/Brisbane:20260419T235900
DTSTAMP:20260421T232826
CREATED:20230224T001413Z
LAST-MODIFIED:20260329T230419Z
UID:10000718-1776610800-1776643140@www.clubbroadbeach.com.au
SUMMARY:Sunday Sessions
DESCRIPTION:
URL:https://www.clubbroadbeach.com.au/event/sunday-sessions/2026-04-19/
CATEGORIES:Live Entertainment
ATTACH;FMTTYPE=image/png:https://www.clubbroadbeach.com.au/wp-content/uploads/2022/10/room3-image.png
END:VEVENT
BEGIN:VEVENT
DTSTART;TZID=Australia/Brisbane:20260420T080000
DTEND;TZID=Australia/Brisbane:20260420T170000
DTSTAMP:20260421T232826
CREATED:20241209T031102Z
LAST-MODIFIED:20260325T062855Z
UID:10014565-1776672000-1776704400@www.clubbroadbeach.com.au
SUMMARY:Parmi Monday
DESCRIPTION:
URL:https://www.clubbroadbeach.com.au/event/parmi-monday-2-2-2/2026-04-20/
CATEGORIES:Daily Activities,Daily Specials,Weekly
ATTACH;FMTTYPE=image/jpeg:https://www.clubbroadbeach.com.au/wp-content/uploads/2024/12/Parmi-Monday-1024x1024px.jpg
END:VEVENT
BEGIN:VEVENT
DTSTART;TZID=Australia/Brisbane:20260425T113000
DTEND;TZID=Australia/Brisbane:20260425T233000
DTSTAMP:20260421T232826
CREATED:20260420T054104Z
LAST-MODIFIED:20260420T054227Z
UID:10031543-1777116600-1777159800@www.clubbroadbeach.com.au
SUMMARY:ANZAC Day 2026
DESCRIPTION:
URL:https://www.clubbroadbeach.com.au/event/anzac-day-2026/
CATEGORIES:Special Events
ATTACH;FMTTYPE=image/jpeg:https://www.clubbroadbeach.com.au/wp-content/uploads/2026/04/25.04.26-POST.jpg
END:VEVENT
END:VCALENDAR