BEGIN:VCALENDAR
VERSION:2.0
PRODID:-//Club Broadbeach - ECPv6.15.20//NONSGML v1.0//EN
CALSCALE:GREGORIAN
METHOD:PUBLISH
X-ORIGINAL-URL:https://www.clubbroadbeach.com.au
X-WR-CALDESC:Events for Club Broadbeach
REFRESH-INTERVAL;VALUE=DURATION:PT1H
X-Robots-Tag:noindex
X-PUBLISHED-TTL:PT1H
BEGIN:VTIMEZONE
TZID:Australia/Brisbane
BEGIN:STANDARD
TZOFFSETFROM:+1000
TZOFFSETTO:+1000
TZNAME:AEST
DTSTART:20250101T000000
END:STANDARD
END:VTIMEZONE
BEGIN:VEVENT
DTSTART;TZID=Australia/Brisbane:20260103T170000
DTEND;TZID=Australia/Brisbane:20260103T225900
DTSTAMP:20260423T081501
CREATED:20230224T001732Z
LAST-MODIFIED:20260329T230043Z
UID:10018796-1767459600-1767481140@www.clubbroadbeach.com.au
SUMMARY:Saturday Nights
DESCRIPTION:
URL:https://www.clubbroadbeach.com.au/event/saturday-nights/2026-01-03/
CATEGORIES:Live Entertainment
ATTACH;FMTTYPE=image/png:https://www.clubbroadbeach.com.au/wp-content/uploads/2022/10/blurb-image3.png
END:VEVENT
BEGIN:VEVENT
DTSTART;TZID=Australia/Brisbane:20260104T140000
DTEND;TZID=Australia/Brisbane:20260104T225900
DTSTAMP:20260423T081501
CREATED:20230224T001413Z
LAST-MODIFIED:20260329T230419Z
UID:10000703-1767535200-1767567540@www.clubbroadbeach.com.au
SUMMARY:Sunday Sessions
DESCRIPTION:
URL:https://www.clubbroadbeach.com.au/event/sunday-sessions/2026-01-04/
CATEGORIES:Live Entertainment
ATTACH;FMTTYPE=image/png:https://www.clubbroadbeach.com.au/wp-content/uploads/2022/10/room3-image.png
END:VEVENT
BEGIN:VEVENT
DTSTART;TZID=Australia/Brisbane:20260105T070000
DTEND;TZID=Australia/Brisbane:20260105T160000
DTSTAMP:20260423T081501
CREATED:20241209T031102Z
LAST-MODIFIED:20260325T062855Z
UID:10014550-1767596400-1767628800@www.clubbroadbeach.com.au
SUMMARY:Parmi Monday
DESCRIPTION:
URL:https://www.clubbroadbeach.com.au/event/parmi-monday-2-2-2/2026-01-05/
CATEGORIES:Daily Activities,Daily Specials,Weekly
ATTACH;FMTTYPE=image/jpeg:https://www.clubbroadbeach.com.au/wp-content/uploads/2024/12/Parmi-Monday-1024x1024px.jpg
END:VEVENT
BEGIN:VEVENT
DTSTART;TZID=Australia/Brisbane:20260106T070000
DTEND;TZID=Australia/Brisbane:20260106T160000
DTSTAMP:20260423T081501
CREATED:20241120T013356Z
LAST-MODIFIED:20260325T063258Z
UID:10014812-1767682800-1767715200@www.clubbroadbeach.com.au
SUMMARY:T-Bone Tuesday
DESCRIPTION:
URL:https://www.clubbroadbeach.com.au/event/t-bone-tuesday-2/2026-01-06/
CATEGORIES:Daily Activities,Daily Specials,Weekly
ATTACH;FMTTYPE=image/avif:https://www.clubbroadbeach.com.au/wp-content/uploads/2024/11/t-bone-steak-served-wooden-board-with-slat-rosemary.avif
END:VEVENT
BEGIN:VEVENT
DTSTART;TZID=Australia/Brisbane:20260107T080000
DTEND;TZID=Australia/Brisbane:20260107T170000
DTSTAMP:20260423T081501
CREATED:20250918T043754Z
LAST-MODIFIED:20260325T062344Z
UID:10024203-1767772800-1767805200@www.clubbroadbeach.com.au
SUMMARY:Mid-Week Members Draw
DESCRIPTION:
URL:https://www.clubbroadbeach.com.au/event/mid-week-members-draw/2026-01-07/
CATEGORIES:Gaming,Weekly
ATTACH;FMTTYPE=image/jpeg:https://www.clubbroadbeach.com.au/wp-content/uploads/2025/09/BBC_09-SEP-SQ-Members-Draw.jpg
END:VEVENT
BEGIN:VEVENT
DTSTART;TZID=Australia/Brisbane:20260108T173000
DTEND;TZID=Australia/Brisbane:20260108T200000
DTSTAMP:20260423T081501
CREATED:20241119T232726Z
LAST-MODIFIED:20260325T062945Z
UID:10024387-1767893400-1767902400@www.clubbroadbeach.com.au
SUMMARY:Trivia Night
DESCRIPTION:
URL:https://www.clubbroadbeach.com.au/event/trivia-night/2026-01-08/
CATEGORIES:Trivia
ATTACH;FMTTYPE=image/jpeg:https://www.clubbroadbeach.com.au/wp-content/uploads/2026/01/Trivia-web-feature-image-Presentation.jpg
END:VEVENT
BEGIN:VEVENT
DTSTART;TZID=Australia/Brisbane:20260109T110000
DTEND;TZID=Australia/Brisbane:20260109T140000
DTSTAMP:20260423T081501
CREATED:20241220T055323Z
LAST-MODIFIED:20260304T222234Z
UID:10029443-1767956400-1767967200@www.clubbroadbeach.com.au
SUMMARY:APL Poker
DESCRIPTION:
URL:https://www.clubbroadbeach.com.au/event/apl-poker-3-2/2026-01-09/
CATEGORIES:APL,Gaming
ATTACH;FMTTYPE=image/webp:https://www.clubbroadbeach.com.au/wp-content/uploads/2024/09/APL-Poker-no-date01.webp
END:VEVENT
BEGIN:VEVENT
DTSTART;TZID=Australia/Brisbane:20260109T183000
DTEND;TZID=Australia/Brisbane:20260109T225900
DTSTAMP:20260423T081501
CREATED:20230224T000628Z
LAST-MODIFIED:20260330T234417Z
UID:10000075-1767983400-1767999540@www.clubbroadbeach.com.au
SUMMARY:Friday Nights
DESCRIPTION:
URL:https://www.clubbroadbeach.com.au/event/friday-nights/2026-01-09/
CATEGORIES:Live Entertainment
ATTACH;FMTTYPE=image/png:https://www.clubbroadbeach.com.au/wp-content/uploads/2023/02/broadbeach-1.png
END:VEVENT
BEGIN:VEVENT
DTSTART;TZID=Australia/Brisbane:20260114T100000
DTEND;TZID=Australia/Brisbane:20260114T130000
DTSTAMP:20260423T081501
CREATED:20260108T033452Z
LAST-MODIFIED:20260325T060340Z
UID:10028552-1768384800-1768395600@www.clubbroadbeach.com.au
SUMMARY:APL Poker
DESCRIPTION:
URL:https://www.clubbroadbeach.com.au/event/apl-poker-2/2026-01-14/
CATEGORIES:APL,Gaming
ATTACH;FMTTYPE=image/webp:https://www.clubbroadbeach.com.au/wp-content/uploads/2024/09/APL-Poker-no-date01.webp
END:VEVENT
BEGIN:VEVENT
DTSTART;TZID=Australia/Brisbane:20260121T120000
DTEND;TZID=Australia/Brisbane:20260121T140000
DTSTAMP:20260423T081501
CREATED:20260118T224900Z
LAST-MODIFIED:20260312T025254Z
UID:10030234-1768996800-1769004000@www.clubbroadbeach.com.au
SUMMARY:Midweek Cash Splash
DESCRIPTION:
URL:https://www.clubbroadbeach.com.au/event/midweek-cash-splash/2026-01-21/
CATEGORIES:Gaming
ATTACH;FMTTYPE=image/jpeg:https://www.clubbroadbeach.com.au/wp-content/uploads/2026/01/v5-Preferred-14.jpg
END:VEVENT
BEGIN:VEVENT
DTSTART;TZID=Australia/Brisbane:20260123T100000
DTEND;TZID=Australia/Brisbane:20260126T233000
DTSTAMP:20260423T081501
CREATED:20251229T230859Z
LAST-MODIFIED:20251231T222104Z
UID:10028471-1769162400-1769470200@www.clubbroadbeach.com.au
SUMMARY:Australia Day Long Weekend
DESCRIPTION:
URL:https://www.clubbroadbeach.com.au/event/australia-day-long-weekend/
CATEGORIES:Special Events
ATTACH;FMTTYPE=image/jpeg:https://www.clubbroadbeach.com.au/wp-content/uploads/2025/12/Australia-long-weekend-socials-1.jpg
END:VEVENT
BEGIN:VEVENT
DTSTART;TZID=Australia/Brisbane:20260123T120000
DTEND;TZID=Australia/Brisbane:20260123T140000
DTSTAMP:20260423T081501
CREATED:20260118T233654Z
LAST-MODIFIED:20260325T060420Z
UID:10030548-1769169600-1769176800@www.clubbroadbeach.com.au
SUMMARY:Feel-Good Friday Cash Frenzy
DESCRIPTION:
URL:https://www.clubbroadbeach.com.au/event/feel-good-friday-cash-frenzy/2026-01-23/
CATEGORIES:Gaming
ATTACH;FMTTYPE=image/jpeg:https://www.clubbroadbeach.com.au/wp-content/uploads/2026/01/v1-5.jpg
END:VEVENT
BEGIN:VEVENT
DTSTART;TZID=Australia/Brisbane:20260206T180000
DTEND;TZID=Australia/Brisbane:20260206T200000
DTSTAMP:20260423T081501
CREATED:20260127T000546Z
LAST-MODIFIED:20260325T060447Z
UID:10031074-1770400800-1770408000@www.clubbroadbeach.com.au
SUMMARY:The Broadbeach Bounty
DESCRIPTION:
URL:https://www.clubbroadbeach.com.au/event/the-broadbeach-bounty/2026-02-06/
CATEGORIES:Gaming
ATTACH;FMTTYPE=image/jpeg:https://www.clubbroadbeach.com.au/wp-content/uploads/2026/01/v2.jpg
END:VEVENT
BEGIN:VEVENT
DTSTART;TZID=Australia/Brisbane:20260403T000000
DTEND;TZID=Australia/Brisbane:20260403T235900
DTSTAMP:20260423T081501
CREATED:20260304T222448Z
LAST-MODIFIED:20260326T000136Z
UID:10031408-1775174400-1775260740@www.clubbroadbeach.com.au
SUMMARY:Club Broadbeach Closed
DESCRIPTION:
URL:https://www.clubbroadbeach.com.au/event/club-broadbeach-closed/
END:VEVENT
END:VCALENDAR