BEGIN:VCALENDAR
VERSION:2.0
PRODID:-//Club Broadbeach - ECPv6.15.20//NONSGML v1.0//EN
CALSCALE:GREGORIAN
METHOD:PUBLISH
X-ORIGINAL-URL:https://www.clubbroadbeach.com.au
X-WR-CALDESC:Events for Club Broadbeach
REFRESH-INTERVAL;VALUE=DURATION:PT1H
X-Robots-Tag:noindex
X-PUBLISHED-TTL:PT1H
BEGIN:VTIMEZONE
TZID:Australia/Brisbane
BEGIN:STANDARD
TZOFFSETFROM:+1000
TZOFFSETTO:+1000
TZNAME:AEST
DTSTART:20240101T000000
END:STANDARD
END:VTIMEZONE
BEGIN:VEVENT
DTSTART;TZID=Australia/Brisbane:20251125T070000
DTEND;TZID=Australia/Brisbane:20251125T160000
DTSTAMP:20260422T061150
CREATED:20241120T013356Z
LAST-MODIFIED:20260325T063258Z
UID:10014806-1764054000-1764086400@www.clubbroadbeach.com.au
SUMMARY:T-Bone Tuesday
DESCRIPTION:
URL:https://www.clubbroadbeach.com.au/event/t-bone-tuesday-2/2025-11-25/
CATEGORIES:Daily Activities,Daily Specials,Weekly
ATTACH;FMTTYPE=image/avif:https://www.clubbroadbeach.com.au/wp-content/uploads/2024/11/t-bone-steak-served-wooden-board-with-slat-rosemary.avif
END:VEVENT
BEGIN:VEVENT
DTSTART;TZID=Australia/Brisbane:20251124T070000
DTEND;TZID=Australia/Brisbane:20251124T160000
DTSTAMP:20260422T061150
CREATED:20241209T031102Z
LAST-MODIFIED:20260325T062855Z
UID:10014544-1763967600-1764000000@www.clubbroadbeach.com.au
SUMMARY:Parmi Monday
DESCRIPTION:
URL:https://www.clubbroadbeach.com.au/event/parmi-monday-2-2-2/2025-11-24/
CATEGORIES:Daily Activities,Daily Specials,Weekly
ATTACH;FMTTYPE=image/jpeg:https://www.clubbroadbeach.com.au/wp-content/uploads/2024/12/Parmi-Monday-1024x1024px.jpg
END:VEVENT
BEGIN:VEVENT
DTSTART;TZID=Australia/Brisbane:20251123T140000
DTEND;TZID=Australia/Brisbane:20251123T225900
DTSTAMP:20260422T061150
CREATED:20230224T001413Z
LAST-MODIFIED:20260329T230419Z
UID:10000697-1763906400-1763938740@www.clubbroadbeach.com.au
SUMMARY:Sunday Sessions
DESCRIPTION:
URL:https://www.clubbroadbeach.com.au/event/sunday-sessions/2025-11-23/
CATEGORIES:Live Entertainment
ATTACH;FMTTYPE=image/png:https://www.clubbroadbeach.com.au/wp-content/uploads/2022/10/room3-image.png
END:VEVENT
BEGIN:VEVENT
DTSTART;TZID=Australia/Brisbane:20251122T170000
DTEND;TZID=Australia/Brisbane:20251122T225900
DTSTAMP:20260422T061150
CREATED:20230224T001732Z
LAST-MODIFIED:20260329T230043Z
UID:10018790-1763830800-1763852340@www.clubbroadbeach.com.au
SUMMARY:Saturday Nights
DESCRIPTION:
URL:https://www.clubbroadbeach.com.au/event/saturday-nights/2025-11-22/
CATEGORIES:Live Entertainment
ATTACH;FMTTYPE=image/png:https://www.clubbroadbeach.com.au/wp-content/uploads/2022/10/blurb-image3.png
END:VEVENT
BEGIN:VEVENT
DTSTART;TZID=Australia/Brisbane:20251121T183000
DTEND;TZID=Australia/Brisbane:20251121T225900
DTSTAMP:20260422T061150
CREATED:20230224T000628Z
LAST-MODIFIED:20260330T234417Z
UID:10000068-1763749800-1763765940@www.clubbroadbeach.com.au
SUMMARY:Friday Nights
DESCRIPTION:
URL:https://www.clubbroadbeach.com.au/event/friday-nights/2025-11-21/
CATEGORIES:Live Entertainment
ATTACH;FMTTYPE=image/png:https://www.clubbroadbeach.com.au/wp-content/uploads/2023/02/broadbeach-1.png
END:VEVENT
BEGIN:VEVENT
DTSTART;TZID=Australia/Brisbane:20251121T110000
DTEND;TZID=Australia/Brisbane:20251121T140000
DTSTAMP:20260422T061150
CREATED:20241220T055323Z
LAST-MODIFIED:20260304T222234Z
UID:10029436-1763722800-1763733600@www.clubbroadbeach.com.au
SUMMARY:APL Poker
DESCRIPTION:
URL:https://www.clubbroadbeach.com.au/event/apl-poker-3-2/2025-11-21/
CATEGORIES:APL,Gaming
ATTACH;FMTTYPE=image/webp:https://www.clubbroadbeach.com.au/wp-content/uploads/2024/09/APL-Poker-no-date01.webp
END:VEVENT
BEGIN:VEVENT
DTSTART;TZID=Australia/Brisbane:20251120T173000
DTEND;TZID=Australia/Brisbane:20251120T200000
DTSTAMP:20260422T061150
CREATED:20241119T232726Z
LAST-MODIFIED:20260325T062945Z
UID:10024380-1763659800-1763668800@www.clubbroadbeach.com.au
SUMMARY:Trivia Night
DESCRIPTION:
URL:https://www.clubbroadbeach.com.au/event/trivia-night/2025-11-20/
CATEGORIES:Trivia
ATTACH;FMTTYPE=image/jpeg:https://www.clubbroadbeach.com.au/wp-content/uploads/2026/01/Trivia-web-feature-image-Presentation.jpg
END:VEVENT
BEGIN:VEVENT
DTSTART;TZID=Australia/Brisbane:20251120T170000
DTEND;TZID=Australia/Brisbane:20251120T203000
DTSTAMP:20260422T061150
CREATED:20260202T222845Z
LAST-MODIFIED:20260416T033846Z
UID:10031099-1763658000-1763670600@www.clubbroadbeach.com.au
SUMMARY:Kids Eat Free Thursdays
DESCRIPTION:
URL:https://www.clubbroadbeach.com.au/event/kids-eat-free-thursdays/2025-11-20/
CATEGORIES:Daily Activities,Daily Specials,Weekly
ATTACH;FMTTYPE=image/jpeg:https://www.clubbroadbeach.com.au/wp-content/uploads/2026/02/one-free-kids-meal-with-every-paying-main-meal.jpg
END:VEVENT
BEGIN:VEVENT
DTSTART;TZID=Australia/Brisbane:20251119T080000
DTEND;TZID=Australia/Brisbane:20251119T170000
DTSTAMP:20260422T061150
CREATED:20250918T043754Z
LAST-MODIFIED:20260325T062344Z
UID:10024196-1763539200-1763571600@www.clubbroadbeach.com.au
SUMMARY:Mid-Week Members Draw
DESCRIPTION:
URL:https://www.clubbroadbeach.com.au/event/mid-week-members-draw/2025-11-19/
CATEGORIES:Gaming,Weekly
ATTACH;FMTTYPE=image/jpeg:https://www.clubbroadbeach.com.au/wp-content/uploads/2025/09/BBC_09-SEP-SQ-Members-Draw.jpg
END:VEVENT
BEGIN:VEVENT
DTSTART;TZID=Australia/Brisbane:20250628T080000
DTEND;TZID=Australia/Brisbane:20250628T170000
DTSTAMP:20260422T061150
CREATED:20241120T003524Z
LAST-MODIFIED:20250626T012706Z
UID:10014000-1751097600-1751130000@www.clubbroadbeach.com.au
SUMMARY:Saturday Flush
DESCRIPTION:
URL:https://www.clubbroadbeach.com.au/event/saturday-flush/2025-06-28/
CATEGORIES:Gaming
ATTACH;FMTTYPE=image/jpeg:https://www.clubbroadbeach.com.au/wp-content/uploads/2024/11/BBBC_Saturday-Flush_TVL.jpg
END:VEVENT
BEGIN:VEVENT
DTSTART;TZID=Australia/Brisbane:20250620T080000
DTEND;TZID=Australia/Brisbane:20250620T170000
DTSTAMP:20260422T061150
CREATED:20241120T011336Z
LAST-MODIFIED:20250626T011520Z
UID:10014260-1750406400-1750438800@www.clubbroadbeach.com.au
SUMMARY:Friday Fast Funds
DESCRIPTION:
URL:https://www.clubbroadbeach.com.au/event/friday-fast-funds/2025-06-20/
CATEGORIES:Gaming
ATTACH;FMTTYPE=image/jpeg:https://www.clubbroadbeach.com.au/wp-content/uploads/2024/11/BBBC_FridayFastFund_TVL.jpg
END:VEVENT
BEGIN:VEVENT
DTSTART;TZID=Australia/Brisbane:20250126T070000
DTEND;TZID=Australia/Brisbane:20250126T160000
DTSTAMP:20260422T061150
CREATED:20250110T060301Z
LAST-MODIFIED:20250110T060301Z
UID:10018990-1737874800-1737907200@www.clubbroadbeach.com.au
SUMMARY:Australia Day
DESCRIPTION:
URL:https://www.clubbroadbeach.com.au/event/australia-day/
CATEGORIES:Special Events
ATTACH;FMTTYPE=image/jpeg:https://www.clubbroadbeach.com.au/wp-content/uploads/2025/01/Bulls-Aus-Day-2025-1.jpg
END:VEVENT
END:VCALENDAR