BEGIN:VCALENDAR
VERSION:2.0
PRODID:-//Club Broadbeach - ECPv6.15.20//NONSGML v1.0//EN
CALSCALE:GREGORIAN
METHOD:PUBLISH
X-WR-CALNAME:Club Broadbeach
X-ORIGINAL-URL:https://www.clubbroadbeach.com.au
X-WR-CALDESC:Events for Club Broadbeach
REFRESH-INTERVAL;VALUE=DURATION:PT1H
X-Robots-Tag:noindex
X-PUBLISHED-TTL:PT1H
BEGIN:VTIMEZONE
TZID:Australia/Brisbane
BEGIN:STANDARD
TZOFFSETFROM:+1000
TZOFFSETTO:+1000
TZNAME:AEST
DTSTART:20240101T000000
END:STANDARD
END:VTIMEZONE
BEGIN:VEVENT
DTSTART;TZID=Australia/Brisbane:20250801T110000
DTEND;TZID=Australia/Brisbane:20250801T140000
DTSTAMP:20260425T212217
CREATED:20241220T055323Z
LAST-MODIFIED:20260304T222234Z
UID:10029420-1754046000-1754056800@www.clubbroadbeach.com.au
SUMMARY:APL Poker
DESCRIPTION:
URL:https://www.clubbroadbeach.com.au/event/apl-poker-3-2/2025-08-01/
CATEGORIES:APL,Gaming
ATTACH;FMTTYPE=image/webp:https://www.clubbroadbeach.com.au/wp-content/uploads/2024/09/APL-Poker-no-date01.webp
END:VEVENT
BEGIN:VEVENT
DTSTART;TZID=Australia/Brisbane:20250801T193000
DTEND;TZID=Australia/Brisbane:20250801T235900
DTSTAMP:20260425T212217
CREATED:20230224T000628Z
LAST-MODIFIED:20260330T234417Z
UID:10000052-1754076600-1754092740@www.clubbroadbeach.com.au
SUMMARY:Friday Nights
DESCRIPTION:
URL:https://www.clubbroadbeach.com.au/event/friday-nights/2025-08-01/
CATEGORIES:Live Entertainment
ATTACH;FMTTYPE=image/png:https://www.clubbroadbeach.com.au/wp-content/uploads/2023/02/broadbeach-1.png
END:VEVENT
BEGIN:VEVENT
DTSTART;TZID=Australia/Brisbane:20250802T180000
DTEND;TZID=Australia/Brisbane:20250802T235900
DTSTAMP:20260425T212217
CREATED:20230224T001732Z
LAST-MODIFIED:20260329T230043Z
UID:10018774-1754157600-1754179140@www.clubbroadbeach.com.au
SUMMARY:Saturday Nights
DESCRIPTION:
URL:https://www.clubbroadbeach.com.au/event/saturday-nights/2025-08-02/
CATEGORIES:Live Entertainment
ATTACH;FMTTYPE=image/png:https://www.clubbroadbeach.com.au/wp-content/uploads/2022/10/blurb-image3.png
END:VEVENT
BEGIN:VEVENT
DTSTART;TZID=Australia/Brisbane:20250803T150000
DTEND;TZID=Australia/Brisbane:20250803T235900
DTSTAMP:20260425T212217
CREATED:20230224T001413Z
LAST-MODIFIED:20260329T230419Z
UID:10000681-1754233200-1754265540@www.clubbroadbeach.com.au
SUMMARY:Sunday Sessions
DESCRIPTION:
URL:https://www.clubbroadbeach.com.au/event/sunday-sessions/2025-08-03/
CATEGORIES:Live Entertainment
ATTACH;FMTTYPE=image/png:https://www.clubbroadbeach.com.au/wp-content/uploads/2022/10/room3-image.png
END:VEVENT
BEGIN:VEVENT
DTSTART;TZID=Australia/Brisbane:20250804T080000
DTEND;TZID=Australia/Brisbane:20250804T170000
DTSTAMP:20260425T212217
CREATED:20241209T031102Z
LAST-MODIFIED:20260325T062855Z
UID:10014528-1754294400-1754326800@www.clubbroadbeach.com.au
SUMMARY:Parmi Monday
DESCRIPTION:
URL:https://www.clubbroadbeach.com.au/event/parmi-monday-2-2-2/2025-08-04/
CATEGORIES:Daily Activities,Daily Specials,Weekly
ATTACH;FMTTYPE=image/jpeg:https://www.clubbroadbeach.com.au/wp-content/uploads/2024/12/Parmi-Monday-1024x1024px.jpg
END:VEVENT
BEGIN:VEVENT
DTSTART;TZID=Australia/Brisbane:20250805T080000
DTEND;TZID=Australia/Brisbane:20250805T170000
DTSTAMP:20260425T212217
CREATED:20241120T013356Z
LAST-MODIFIED:20260325T063258Z
UID:10014790-1754380800-1754413200@www.clubbroadbeach.com.au
SUMMARY:T-Bone Tuesday
DESCRIPTION:
URL:https://www.clubbroadbeach.com.au/event/t-bone-tuesday-2/2025-08-05/
CATEGORIES:Daily Activities,Daily Specials,Weekly
ATTACH;FMTTYPE=image/avif:https://www.clubbroadbeach.com.au/wp-content/uploads/2024/11/t-bone-steak-served-wooden-board-with-slat-rosemary.avif
END:VEVENT
BEGIN:VEVENT
DTSTART;TZID=Australia/Brisbane:20250807T183000
DTEND;TZID=Australia/Brisbane:20250807T210000
DTSTAMP:20260425T212217
CREATED:20241119T232726Z
LAST-MODIFIED:20260325T062945Z
UID:10024365-1754591400-1754600400@www.clubbroadbeach.com.au
SUMMARY:Trivia Night
DESCRIPTION:
URL:https://www.clubbroadbeach.com.au/event/trivia-night/2025-08-07/
CATEGORIES:Trivia
ATTACH;FMTTYPE=image/jpeg:https://www.clubbroadbeach.com.au/wp-content/uploads/2026/01/Trivia-web-feature-image-Presentation.jpg
END:VEVENT
BEGIN:VEVENT
DTSTART;TZID=Australia/Brisbane:20250808T110000
DTEND;TZID=Australia/Brisbane:20250808T140000
DTSTAMP:20260425T212217
CREATED:20241220T055323Z
LAST-MODIFIED:20260304T222234Z
UID:10029421-1754650800-1754661600@www.clubbroadbeach.com.au
SUMMARY:APL Poker
DESCRIPTION:
URL:https://www.clubbroadbeach.com.au/event/apl-poker-3-2/2025-08-08/
CATEGORIES:APL,Gaming
ATTACH;FMTTYPE=image/webp:https://www.clubbroadbeach.com.au/wp-content/uploads/2024/09/APL-Poker-no-date01.webp
END:VEVENT
BEGIN:VEVENT
DTSTART;TZID=Australia/Brisbane:20250808T193000
DTEND;TZID=Australia/Brisbane:20250808T235900
DTSTAMP:20260425T212217
CREATED:20230224T000628Z
LAST-MODIFIED:20260330T234417Z
UID:10000053-1754681400-1754697540@www.clubbroadbeach.com.au
SUMMARY:Friday Nights
DESCRIPTION:
URL:https://www.clubbroadbeach.com.au/event/friday-nights/2025-08-08/
CATEGORIES:Live Entertainment
ATTACH;FMTTYPE=image/png:https://www.clubbroadbeach.com.au/wp-content/uploads/2023/02/broadbeach-1.png
END:VEVENT
BEGIN:VEVENT
DTSTART;TZID=Australia/Brisbane:20250809T180000
DTEND;TZID=Australia/Brisbane:20250809T235900
DTSTAMP:20260425T212217
CREATED:20230224T001732Z
LAST-MODIFIED:20260329T230043Z
UID:10018775-1754762400-1754783940@www.clubbroadbeach.com.au
SUMMARY:Saturday Nights
DESCRIPTION:
URL:https://www.clubbroadbeach.com.au/event/saturday-nights/2025-08-09/
CATEGORIES:Live Entertainment
ATTACH;FMTTYPE=image/png:https://www.clubbroadbeach.com.au/wp-content/uploads/2022/10/blurb-image3.png
END:VEVENT
BEGIN:VEVENT
DTSTART;TZID=Australia/Brisbane:20250810T150000
DTEND;TZID=Australia/Brisbane:20250810T235900
DTSTAMP:20260425T212217
CREATED:20230224T001413Z
LAST-MODIFIED:20260329T230419Z
UID:10000682-1754838000-1754870340@www.clubbroadbeach.com.au
SUMMARY:Sunday Sessions
DESCRIPTION:
URL:https://www.clubbroadbeach.com.au/event/sunday-sessions/2025-08-10/
CATEGORIES:Live Entertainment
ATTACH;FMTTYPE=image/png:https://www.clubbroadbeach.com.au/wp-content/uploads/2022/10/room3-image.png
END:VEVENT
BEGIN:VEVENT
DTSTART;TZID=Australia/Brisbane:20250811T080000
DTEND;TZID=Australia/Brisbane:20250811T170000
DTSTAMP:20260425T212217
CREATED:20241209T031102Z
LAST-MODIFIED:20260325T062855Z
UID:10014529-1754899200-1754931600@www.clubbroadbeach.com.au
SUMMARY:Parmi Monday
DESCRIPTION:
URL:https://www.clubbroadbeach.com.au/event/parmi-monday-2-2-2/2025-08-11/
CATEGORIES:Daily Activities,Daily Specials,Weekly
ATTACH;FMTTYPE=image/jpeg:https://www.clubbroadbeach.com.au/wp-content/uploads/2024/12/Parmi-Monday-1024x1024px.jpg
END:VEVENT
BEGIN:VEVENT
DTSTART;TZID=Australia/Brisbane:20250812T080000
DTEND;TZID=Australia/Brisbane:20250812T170000
DTSTAMP:20260425T212217
CREATED:20241120T013356Z
LAST-MODIFIED:20260325T063258Z
UID:10014791-1754985600-1755018000@www.clubbroadbeach.com.au
SUMMARY:T-Bone Tuesday
DESCRIPTION:
URL:https://www.clubbroadbeach.com.au/event/t-bone-tuesday-2/2025-08-12/
CATEGORIES:Daily Activities,Daily Specials,Weekly
ATTACH;FMTTYPE=image/avif:https://www.clubbroadbeach.com.au/wp-content/uploads/2024/11/t-bone-steak-served-wooden-board-with-slat-rosemary.avif
END:VEVENT
BEGIN:VEVENT
DTSTART;TZID=Australia/Brisbane:20250814T183000
DTEND;TZID=Australia/Brisbane:20250814T210000
DTSTAMP:20260425T212217
CREATED:20241119T232726Z
LAST-MODIFIED:20260325T062945Z
UID:10024366-1755196200-1755205200@www.clubbroadbeach.com.au
SUMMARY:Trivia Night
DESCRIPTION:
URL:https://www.clubbroadbeach.com.au/event/trivia-night/2025-08-14/
CATEGORIES:Trivia
ATTACH;FMTTYPE=image/jpeg:https://www.clubbroadbeach.com.au/wp-content/uploads/2026/01/Trivia-web-feature-image-Presentation.jpg
END:VEVENT
BEGIN:VEVENT
DTSTART;TZID=Australia/Brisbane:20250815T110000
DTEND;TZID=Australia/Brisbane:20250815T140000
DTSTAMP:20260425T212217
CREATED:20241220T055323Z
LAST-MODIFIED:20260304T222234Z
UID:10029422-1755255600-1755266400@www.clubbroadbeach.com.au
SUMMARY:APL Poker
DESCRIPTION:
URL:https://www.clubbroadbeach.com.au/event/apl-poker-3-2/2025-08-15/
CATEGORIES:APL,Gaming
ATTACH;FMTTYPE=image/webp:https://www.clubbroadbeach.com.au/wp-content/uploads/2024/09/APL-Poker-no-date01.webp
END:VEVENT
BEGIN:VEVENT
DTSTART;TZID=Australia/Brisbane:20250815T193000
DTEND;TZID=Australia/Brisbane:20250815T235900
DTSTAMP:20260425T212217
CREATED:20230224T000628Z
LAST-MODIFIED:20260330T234417Z
UID:10000054-1755286200-1755302340@www.clubbroadbeach.com.au
SUMMARY:Friday Nights
DESCRIPTION:
URL:https://www.clubbroadbeach.com.au/event/friday-nights/2025-08-15/
CATEGORIES:Live Entertainment
ATTACH;FMTTYPE=image/png:https://www.clubbroadbeach.com.au/wp-content/uploads/2023/02/broadbeach-1.png
END:VEVENT
BEGIN:VEVENT
DTSTART;TZID=Australia/Brisbane:20250816T180000
DTEND;TZID=Australia/Brisbane:20250816T235900
DTSTAMP:20260425T212217
CREATED:20230224T001732Z
LAST-MODIFIED:20260329T230043Z
UID:10018776-1755367200-1755388740@www.clubbroadbeach.com.au
SUMMARY:Saturday Nights
DESCRIPTION:
URL:https://www.clubbroadbeach.com.au/event/saturday-nights/2025-08-16/
CATEGORIES:Live Entertainment
ATTACH;FMTTYPE=image/png:https://www.clubbroadbeach.com.au/wp-content/uploads/2022/10/blurb-image3.png
END:VEVENT
BEGIN:VEVENT
DTSTART;TZID=Australia/Brisbane:20250817T150000
DTEND;TZID=Australia/Brisbane:20250817T235900
DTSTAMP:20260425T212217
CREATED:20230224T001413Z
LAST-MODIFIED:20260329T230419Z
UID:10000683-1755442800-1755475140@www.clubbroadbeach.com.au
SUMMARY:Sunday Sessions
DESCRIPTION:
URL:https://www.clubbroadbeach.com.au/event/sunday-sessions/2025-08-17/
CATEGORIES:Live Entertainment
ATTACH;FMTTYPE=image/png:https://www.clubbroadbeach.com.au/wp-content/uploads/2022/10/room3-image.png
END:VEVENT
BEGIN:VEVENT
DTSTART;TZID=Australia/Brisbane:20250818T080000
DTEND;TZID=Australia/Brisbane:20250818T170000
DTSTAMP:20260425T212217
CREATED:20241209T031102Z
LAST-MODIFIED:20260325T062855Z
UID:10014530-1755504000-1755536400@www.clubbroadbeach.com.au
SUMMARY:Parmi Monday
DESCRIPTION:
URL:https://www.clubbroadbeach.com.au/event/parmi-monday-2-2-2/2025-08-18/
CATEGORIES:Daily Activities,Daily Specials,Weekly
ATTACH;FMTTYPE=image/jpeg:https://www.clubbroadbeach.com.au/wp-content/uploads/2024/12/Parmi-Monday-1024x1024px.jpg
END:VEVENT
BEGIN:VEVENT
DTSTART;TZID=Australia/Brisbane:20250819T080000
DTEND;TZID=Australia/Brisbane:20250819T170000
DTSTAMP:20260425T212217
CREATED:20241120T013356Z
LAST-MODIFIED:20260325T063258Z
UID:10014792-1755590400-1755622800@www.clubbroadbeach.com.au
SUMMARY:T-Bone Tuesday
DESCRIPTION:
URL:https://www.clubbroadbeach.com.au/event/t-bone-tuesday-2/2025-08-19/
CATEGORIES:Daily Activities,Daily Specials,Weekly
ATTACH;FMTTYPE=image/avif:https://www.clubbroadbeach.com.au/wp-content/uploads/2024/11/t-bone-steak-served-wooden-board-with-slat-rosemary.avif
END:VEVENT
BEGIN:VEVENT
DTSTART;TZID=Australia/Brisbane:20250821T183000
DTEND;TZID=Australia/Brisbane:20250821T210000
DTSTAMP:20260425T212217
CREATED:20241119T232726Z
LAST-MODIFIED:20260325T062945Z
UID:10024367-1755801000-1755810000@www.clubbroadbeach.com.au
SUMMARY:Trivia Night
DESCRIPTION:
URL:https://www.clubbroadbeach.com.au/event/trivia-night/2025-08-21/
CATEGORIES:Trivia
ATTACH;FMTTYPE=image/jpeg:https://www.clubbroadbeach.com.au/wp-content/uploads/2026/01/Trivia-web-feature-image-Presentation.jpg
END:VEVENT
BEGIN:VEVENT
DTSTART;TZID=Australia/Brisbane:20250822T110000
DTEND;TZID=Australia/Brisbane:20250822T140000
DTSTAMP:20260425T212217
CREATED:20241220T055323Z
LAST-MODIFIED:20260304T222234Z
UID:10029423-1755860400-1755871200@www.clubbroadbeach.com.au
SUMMARY:APL Poker
DESCRIPTION:
URL:https://www.clubbroadbeach.com.au/event/apl-poker-3-2/2025-08-22/
CATEGORIES:APL,Gaming
ATTACH;FMTTYPE=image/webp:https://www.clubbroadbeach.com.au/wp-content/uploads/2024/09/APL-Poker-no-date01.webp
END:VEVENT
BEGIN:VEVENT
DTSTART;TZID=Australia/Brisbane:20250822T193000
DTEND;TZID=Australia/Brisbane:20250822T235900
DTSTAMP:20260425T212217
CREATED:20230224T000628Z
LAST-MODIFIED:20260330T234417Z
UID:10000055-1755891000-1755907140@www.clubbroadbeach.com.au
SUMMARY:Friday Nights
DESCRIPTION:
URL:https://www.clubbroadbeach.com.au/event/friday-nights/2025-08-22/
CATEGORIES:Live Entertainment
ATTACH;FMTTYPE=image/png:https://www.clubbroadbeach.com.au/wp-content/uploads/2023/02/broadbeach-1.png
END:VEVENT
BEGIN:VEVENT
DTSTART;TZID=Australia/Brisbane:20250823T180000
DTEND;TZID=Australia/Brisbane:20250823T235900
DTSTAMP:20260425T212217
CREATED:20230224T001732Z
LAST-MODIFIED:20260329T230043Z
UID:10018777-1755972000-1755993540@www.clubbroadbeach.com.au
SUMMARY:Saturday Nights
DESCRIPTION:
URL:https://www.clubbroadbeach.com.au/event/saturday-nights/2025-08-23/
CATEGORIES:Live Entertainment
ATTACH;FMTTYPE=image/png:https://www.clubbroadbeach.com.au/wp-content/uploads/2022/10/blurb-image3.png
END:VEVENT
BEGIN:VEVENT
DTSTART;TZID=Australia/Brisbane:20250824T150000
DTEND;TZID=Australia/Brisbane:20250824T235900
DTSTAMP:20260425T212217
CREATED:20230224T001413Z
LAST-MODIFIED:20260329T230419Z
UID:10000684-1756047600-1756079940@www.clubbroadbeach.com.au
SUMMARY:Sunday Sessions
DESCRIPTION:
URL:https://www.clubbroadbeach.com.au/event/sunday-sessions/2025-08-24/
CATEGORIES:Live Entertainment
ATTACH;FMTTYPE=image/png:https://www.clubbroadbeach.com.au/wp-content/uploads/2022/10/room3-image.png
END:VEVENT
BEGIN:VEVENT
DTSTART;TZID=Australia/Brisbane:20250825T080000
DTEND;TZID=Australia/Brisbane:20250825T170000
DTSTAMP:20260425T212217
CREATED:20241209T031102Z
LAST-MODIFIED:20260325T062855Z
UID:10014531-1756108800-1756141200@www.clubbroadbeach.com.au
SUMMARY:Parmi Monday
DESCRIPTION:
URL:https://www.clubbroadbeach.com.au/event/parmi-monday-2-2-2/2025-08-25/
CATEGORIES:Daily Activities,Daily Specials,Weekly
ATTACH;FMTTYPE=image/jpeg:https://www.clubbroadbeach.com.au/wp-content/uploads/2024/12/Parmi-Monday-1024x1024px.jpg
END:VEVENT
BEGIN:VEVENT
DTSTART;TZID=Australia/Brisbane:20250826T080000
DTEND;TZID=Australia/Brisbane:20250826T170000
DTSTAMP:20260425T212217
CREATED:20241120T013356Z
LAST-MODIFIED:20260325T063258Z
UID:10014793-1756195200-1756227600@www.clubbroadbeach.com.au
SUMMARY:T-Bone Tuesday
DESCRIPTION:
URL:https://www.clubbroadbeach.com.au/event/t-bone-tuesday-2/2025-08-26/
CATEGORIES:Daily Activities,Daily Specials,Weekly
ATTACH;FMTTYPE=image/avif:https://www.clubbroadbeach.com.au/wp-content/uploads/2024/11/t-bone-steak-served-wooden-board-with-slat-rosemary.avif
END:VEVENT
BEGIN:VEVENT
DTSTART;TZID=Australia/Brisbane:20250828T183000
DTEND;TZID=Australia/Brisbane:20250828T210000
DTSTAMP:20260425T212217
CREATED:20241119T232726Z
LAST-MODIFIED:20260325T062945Z
UID:10024368-1756405800-1756414800@www.clubbroadbeach.com.au
SUMMARY:Trivia Night
DESCRIPTION:
URL:https://www.clubbroadbeach.com.au/event/trivia-night/2025-08-28/
CATEGORIES:Trivia
ATTACH;FMTTYPE=image/jpeg:https://www.clubbroadbeach.com.au/wp-content/uploads/2026/01/Trivia-web-feature-image-Presentation.jpg
END:VEVENT
BEGIN:VEVENT
DTSTART;TZID=Australia/Brisbane:20250829T110000
DTEND;TZID=Australia/Brisbane:20250829T140000
DTSTAMP:20260425T212217
CREATED:20241220T055323Z
LAST-MODIFIED:20260304T222234Z
UID:10029424-1756465200-1756476000@www.clubbroadbeach.com.au
SUMMARY:APL Poker
DESCRIPTION:
URL:https://www.clubbroadbeach.com.au/event/apl-poker-3-2/2025-08-29/
CATEGORIES:APL,Gaming
ATTACH;FMTTYPE=image/webp:https://www.clubbroadbeach.com.au/wp-content/uploads/2024/09/APL-Poker-no-date01.webp
END:VEVENT
BEGIN:VEVENT
DTSTART;TZID=Australia/Brisbane:20250829T193000
DTEND;TZID=Australia/Brisbane:20250829T235900
DTSTAMP:20260425T212217
CREATED:20230224T000628Z
LAST-MODIFIED:20260330T234417Z
UID:10000056-1756495800-1756511940@www.clubbroadbeach.com.au
SUMMARY:Friday Nights
DESCRIPTION:
URL:https://www.clubbroadbeach.com.au/event/friday-nights/2025-08-29/
CATEGORIES:Live Entertainment
ATTACH;FMTTYPE=image/png:https://www.clubbroadbeach.com.au/wp-content/uploads/2023/02/broadbeach-1.png
END:VEVENT
END:VCALENDAR