BEGIN:VCALENDAR
VERSION:2.0
PRODID:-//Club Broadbeach - ECPv6.15.20//NONSGML v1.0//EN
CALSCALE:GREGORIAN
METHOD:PUBLISH
X-WR-CALNAME:Club Broadbeach
X-ORIGINAL-URL:https://www.clubbroadbeach.com.au
X-WR-CALDESC:Events for Club Broadbeach
REFRESH-INTERVAL;VALUE=DURATION:PT1H
X-Robots-Tag:noindex
X-PUBLISHED-TTL:PT1H
BEGIN:VTIMEZONE
TZID:Australia/Brisbane
BEGIN:STANDARD
TZOFFSETFROM:+1000
TZOFFSETTO:+1000
TZNAME:AEST
DTSTART:20250101T000000
END:STANDARD
END:VTIMEZONE
BEGIN:VEVENT
DTSTART;TZID=Australia/Brisbane:20260425T113000
DTEND;TZID=Australia/Brisbane:20260425T233000
DTSTAMP:20260422T044203
CREATED:20260420T054104Z
LAST-MODIFIED:20260420T054227Z
UID:10031543-1777116600-1777159800@www.clubbroadbeach.com.au
SUMMARY:ANZAC Day 2026
DESCRIPTION:
URL:https://www.clubbroadbeach.com.au/event/anzac-day-2026/
CATEGORIES:Special Events
ATTACH;FMTTYPE=image/jpeg:https://www.clubbroadbeach.com.au/wp-content/uploads/2026/04/25.04.26-POST.jpg
END:VEVENT
BEGIN:VEVENT
DTSTART;TZID=Australia/Brisbane:20260425T180000
DTEND;TZID=Australia/Brisbane:20260425T235900
DTSTAMP:20260422T044203
CREATED:20230224T001732Z
LAST-MODIFIED:20260329T230043Z
UID:10018812-1777140000-1777161540@www.clubbroadbeach.com.au
SUMMARY:Saturday Nights
DESCRIPTION:
URL:https://www.clubbroadbeach.com.au/event/saturday-nights/2026-04-25/
CATEGORIES:Live Entertainment
ATTACH;FMTTYPE=image/png:https://www.clubbroadbeach.com.au/wp-content/uploads/2022/10/blurb-image3.png
END:VEVENT
END:VCALENDAR